BEGIN:VCALENDAR
VERSION:2.0
PRODID:-//Kelly Helming - ECPv6.15.20//NONSGML v1.0//EN
CALSCALE:GREGORIAN
METHOD:PUBLISH
X-WR-CALNAME:Kelly Helming
X-ORIGINAL-URL:https://pages.palomar.edu/khelming
X-WR-CALDESC:Events for Kelly Helming
REFRESH-INTERVAL;VALUE=DURATION:PT1H
X-Robots-Tag:noindex
X-PUBLISHED-TTL:PT1H
BEGIN:VTIMEZONE
TZID:America/Los_Angeles
BEGIN:DAYLIGHT
TZOFFSETFROM:-0800
TZOFFSETTO:-0700
TZNAME:PDT
DTSTART:20230312T100000
END:DAYLIGHT
BEGIN:STANDARD
TZOFFSETFROM:-0700
TZOFFSETTO:-0800
TZNAME:PST
DTSTART:20231105T090000
END:STANDARD
BEGIN:DAYLIGHT
TZOFFSETFROM:-0800
TZOFFSETTO:-0700
TZNAME:PDT
DTSTART:20240310T100000
END:DAYLIGHT
BEGIN:STANDARD
TZOFFSETFROM:-0700
TZOFFSETTO:-0800
TZNAME:PST
DTSTART:20241103T090000
END:STANDARD
BEGIN:DAYLIGHT
TZOFFSETFROM:-0800
TZOFFSETTO:-0700
TZNAME:PDT
DTSTART:20250309T100000
END:DAYLIGHT
BEGIN:STANDARD
TZOFFSETFROM:-0700
TZOFFSETTO:-0800
TZNAME:PST
DTSTART:20251102T090000
END:STANDARD
END:VTIMEZONE
BEGIN:VEVENT
DTSTART;VALUE=DATE:20240321
DTEND;VALUE=DATE:20240322
DTSTAMP:20260425T153240
CREATED:20240122T225627Z
LAST-MODIFIED:20240122T230647Z
UID:4791-1710979200-1711065599@pages.palomar.edu
SUMMARY:My New Festival
DESCRIPTION:Sed semper pretium lacinia.\nFusce orci massa\, suscipit quis cursus vel\, molestie condimentum ante. Cras gravida venenatis velit\, in lobortis magna malesuada et. Quisque laoreet gravida fringilla. Nam enim nisl\, vestibulum vitae felis ut\, bibendum blandit nibh. Ut dapibus quam neque\, sed bibendum mauris porta non. Morbi pretium\, erat ut aliquam elementum\, orci augue sagittis dolor\, eu accumsan justo ligula tincidunt est. Curabitur faucibus arcu sem\, id pharetra orci mollis a. Aenean dignissim orci sed ligula lobortis\, ut tincidunt orci scelerisque. Proin iaculis a nisl vitae maximus. Proin bibendum tortor est\, a congue quam dignissim gravida. Nulla in consequat ex\, in euismod magna. Nunc consectetur tincidunt suscipit.
URL:https://pages.palomar.edu/khelming/event/my-new-festival/
LOCATION:Palomar College San Marcos\, 1140 West Mission Rd\, San Marcos\, CA\, 92069\, United States
CATEGORIES:Festival
ORGANIZER;CN="Academic Technology Resources Center":MAILTO:atg@palomar.edu
END:VEVENT
END:VCALENDAR